BEGIN:VCALENDAR
VERSION:2.0
PRODID:-//wp-events-plugin.com//7.2.3.1//EN
TZID:America/Vancouver
X-WR-TIMEZONE:America/Vancouver
BEGIN:VEVENT
UID:576@tsotc.org
DTSTART;TZID=America/Vancouver:20200407T183000
DTEND;TZID=America/Vancouver:20200407T203000
DTSTAMP:20201214T081354Z
URL:https://tsotc.org/events/tuesday-prayer-and-intercession-2-2020-04-07/
SUMMARY:Monday Prayer and Intercession
DESCRIPTION:\nImportant\n\n\n\nThe new province-wide order given by Dr. Hen
 ry prohibits indoor and outdoor gatherings of any size. In-person religiou
 s gatherings and worship servicesare not allowed from November 19 at midni
 ght to January 8\, 2021 at midnight.\n\n\n\nStarting immediately\, on ever
 y Monday\, everyone is welcome to join us on prayer and intercession.\n\n\
 n\n\n
CATEGORIES:services,worship
LOCATION:Southside Community Church\, 12642 100 Avenue\, Surrey\, Canada
GEO:49.184317;-122.87217800000002
X-APPLE-STRUCTURED-LOCATION;VALUE=URI;X-ADDRESS=12642 100 Avenue\, Surrey\,
  Canada;X-APPLE-RADIUS=100;X-TITLE=Southside Community Church:geo:49.18431
 7,-122.87217800000002
END:VEVENT
BEGIN:VTIMEZONE
TZID:America/Vancouver
X-LIC-LOCATION:America/Vancouver
BEGIN:DAYLIGHT
DTSTART:20200308T030000
TZOFFSETFROM:-0800
TZOFFSETTO:-0700
TZNAME:PDT
END:DAYLIGHT
END:VTIMEZONE
END:VCALENDAR