BEGIN:VCALENDAR
VERSION:2.0
PRODID:-//wp-events-plugin.com//7.2.3.1//EN
TZID:America/Vancouver
X-WR-TIMEZONE:America/Vancouver
BEGIN:VEVENT
UID:1135@tsotc.org
DTSTART;TZID=America/Vancouver:20180722T150000
DTEND;TZID=America/Vancouver:20180722T180000
DTSTAMP:20230419T062349Z
URL:https://tsotc.org/events/sunday-praise-and-worhsip-3-2018-07-22/
SUMMARY:Sunday Praise and Worhsip
DESCRIPTION:\nSession with Pastor Gideon and Brother Isaack Musongela featu
 ring Praise and Worship choir.\n
ATTACH;FMTTYPE=image/jpeg:https://tsotc.org/wp-content/uploads/2016/03/dsc
 _2000.jpg
CATEGORIES:services,worship
LOCATION:Southside Community Church\, 12642 100 Avenue\, Surrey\, Canada
GEO:49.184317;-122.87217800000002
X-APPLE-STRUCTURED-LOCATION;VALUE=URI;X-ADDRESS=12642 100 Avenue\, Surrey\,
  Canada;X-APPLE-RADIUS=100;X-TITLE=Southside Community Church:geo:49.18431
 7,-122.87217800000002
END:VEVENT
BEGIN:VTIMEZONE
TZID:America/Vancouver
X-LIC-LOCATION:America/Vancouver
BEGIN:DAYLIGHT
DTSTART:20180311T030000
TZOFFSETFROM:-0800
TZOFFSETTO:-0700
TZNAME:PDT
END:DAYLIGHT
END:VTIMEZONE
END:VCALENDAR